BEGIN:VCALENDAR
VERSION:2.0
PRODID:-//Anna&#039;s Revision - ECPv6.15.20//NONSGML v1.0//EN
CALSCALE:GREGORIAN
METHOD:PUBLISH
X-WR-CALNAME:Anna&#039;s Revision
X-ORIGINAL-URL:https://northed.co.uk
X-WR-CALDESC:Events for Anna&#039;s Revision
REFRESH-INTERVAL;VALUE=DURATION:PT1H
X-Robots-Tag:noindex
X-PUBLISHED-TTL:PT1H
BEGIN:VTIMEZONE
TZID:UTC
BEGIN:STANDARD
TZOFFSETFROM:+0000
TZOFFSETTO:+0000
TZNAME:UTC
DTSTART:19690101T000000
END:STANDARD
END:VTIMEZONE
BEGIN:VEVENT
DTSTART;TZID=UTC:20230720T081500
DTEND;TZID=UTC:20230720T090000
DTSTAMP:20260422T190349
CREATED:20230711T183132Z
LAST-MODIFIED:20230711T183132Z
UID:139-1689840900-1689843600@northed.co.uk
SUMMARY:Violin
DESCRIPTION:
URL:https://northed.co.uk/event/violin-5/
LOCATION:Leazes Crescent\, NE1 4LN
END:VEVENT
BEGIN:VEVENT
DTSTART;TZID=UTC:20230719T170000
DTEND;TZID=UTC:20230719T180000
DTSTAMP:20260422T190349
CREATED:20230711T191111Z
LAST-MODIFIED:20230711T191847Z
UID:174-1689786000-1689789600@northed.co.uk
SUMMARY:Music
DESCRIPTION:
URL:https://northed.co.uk/event/horse/
LOCATION:Leazes Crescent\, NE1 4LN
END:VEVENT
BEGIN:VEVENT
DTSTART;TZID=UTC:20230719T130000
DTEND;TZID=UTC:20230719T160000
DTSTAMP:20260422T190349
CREATED:20230713T180308Z
LAST-MODIFIED:20230713T180722Z
UID:189-1689771600-1689782400@northed.co.uk
SUMMARY:Personal Revision Work
DESCRIPTION:
URL:https://northed.co.uk/event/personal-revision-work-5/
LOCATION:Leazes Crescent\, NE1 4LN
END:VEVENT
BEGIN:VEVENT
DTSTART;TZID=UTC:20230719T093000
DTEND;TZID=UTC:20230719T120000
DTSTAMP:20260422T190349
CREATED:20230711T175839Z
LAST-MODIFIED:20230711T182834Z
UID:50-1689759000-1689768000@northed.co.uk
SUMMARY:Holiday Work (Maths\, Biology\, English\, etc)
DESCRIPTION:
URL:https://northed.co.uk/event/holiday-work-maths-biology-english-etc-4/
LOCATION:Leazes Crescent\, NE1 4LN
END:VEVENT
BEGIN:VEVENT
DTSTART;TZID=UTC:20230719T081500
DTEND;TZID=UTC:20230719T090000
DTSTAMP:20260422T190349
CREATED:20230711T183118Z
LAST-MODIFIED:20230711T183118Z
UID:138-1689754500-1689757200@northed.co.uk
SUMMARY:Violin
DESCRIPTION:
URL:https://northed.co.uk/event/violin-4/
LOCATION:Leazes Crescent\, NE1 4LN
END:VEVENT
BEGIN:VEVENT
DTSTART;TZID=UTC:20230718T140000
DTEND;TZID=UTC:20230718T170000
DTSTAMP:20260422T190349
CREATED:20230713T180308Z
LAST-MODIFIED:20230713T181033Z
UID:188-1689688800-1689699600@northed.co.uk
SUMMARY:Personal Revision Work
DESCRIPTION:
URL:https://northed.co.uk/event/personal-revision-work-4/
LOCATION:Leazes Crescent\, NE1 4LN
END:VEVENT
BEGIN:VEVENT
DTSTART;TZID=UTC:20230718T113000
DTEND;TZID=UTC:20230718T133000
DTSTAMP:20260422T190349
CREATED:20230711T180845Z
LAST-MODIFIED:20230713T181007Z
UID:91-1689679800-1689687000@northed.co.uk
SUMMARY:Holiday Work (Chemistry\, Physics)
DESCRIPTION:
URL:https://northed.co.uk/event/holiday-work-chemistry-physics-3/
LOCATION:Leazes Crescent\, NE1 4LN
END:VEVENT
BEGIN:VEVENT
DTSTART;TZID=UTC:20230718T080000
DTEND;TZID=UTC:20230718T084500
DTSTAMP:20260422T190349
CREATED:20230711T183118Z
LAST-MODIFIED:20230716T172315Z
UID:137-1689667200-1689669900@northed.co.uk
SUMMARY:Violin
DESCRIPTION:
URL:https://northed.co.uk/event/violin-3/
LOCATION:Leazes Crescent\, NE1 4LN
END:VEVENT
BEGIN:VEVENT
DTSTART;TZID=UTC:20230717T140000
DTEND;TZID=UTC:20230717T170000
DTSTAMP:20260422T190349
CREATED:20230713T180308Z
LAST-MODIFIED:20230716T145730Z
UID:187-1689602400-1689613200@northed.co.uk
SUMMARY:Personal Revision Work
DESCRIPTION:
URL:https://northed.co.uk/event/personal-revision-work-3/
LOCATION:Leazes Crescent\, NE1 4LN
END:VEVENT
BEGIN:VEVENT
DTSTART;TZID=UTC:20230717T123000
DTEND;TZID=UTC:20230717T131500
DTSTAMP:20260422T190349
CREATED:20230711T183118Z
LAST-MODIFIED:20230716T150104Z
UID:136-1689597000-1689599700@northed.co.uk
SUMMARY:Violin
DESCRIPTION:
URL:https://northed.co.uk/event/violin-2/
LOCATION:Leazes Crescent\, NE1 4LN
END:VEVENT
BEGIN:VEVENT
DTSTART;TZID=UTC:20230717T100000
DTEND;TZID=UTC:20230717T120000
DTSTAMP:20260422T190349
CREATED:20230711T180845Z
LAST-MODIFIED:20230711T183017Z
UID:90-1689588000-1689595200@northed.co.uk
SUMMARY:Holiday Work (Chemistry\, Physics)
DESCRIPTION:
URL:https://northed.co.uk/event/holiday-work-chemistry-physics-2/
LOCATION:Leazes Crescent\, NE1 4LN
END:VEVENT
BEGIN:VEVENT
DTSTART;TZID=UTC:20230716T160000
DTEND;TZID=UTC:20230716T180000
DTSTAMP:20260422T190349
CREATED:20230713T185258Z
LAST-MODIFIED:20230713T185508Z
UID:272-1689523200-1689530400@northed.co.uk
SUMMARY:Personal Revision Work
DESCRIPTION:
URL:https://northed.co.uk/event/personal-revision-work-40/
LOCATION:Leazes Crescent\, NE1 4LN
END:VEVENT
BEGIN:VEVENT
DTSTART;TZID=UTC:20230716T143000
DTEND;TZID=UTC:20230716T153000
DTSTAMP:20260422T190349
CREATED:20230715T230932Z
LAST-MODIFIED:20230715T230932Z
UID:313-1689517800-1689521400@northed.co.uk
SUMMARY:Horse
DESCRIPTION:
URL:https://northed.co.uk/event/horse-2/
END:VEVENT
BEGIN:VEVENT
DTSTART;TZID=UTC:20230716T110000
DTEND;TZID=UTC:20230716T140000
DTSTAMP:20260422T190349
CREATED:20230711T174144Z
LAST-MODIFIED:20230711T174144Z
UID:40-1689505200-1689516000@northed.co.uk
SUMMARY:Holiday Work (Maths\, Biology\, English\, etc)
DESCRIPTION:
URL:https://northed.co.uk/event/holiday-work-maths-biology-english-etc-3/
LOCATION:Eskdale Terrace\, NE2 4DN
END:VEVENT
BEGIN:VEVENT
DTSTART;TZID=UTC:20230716T081500
DTEND;TZID=UTC:20230716T090000
DTSTAMP:20260422T190349
CREATED:20230711T183117Z
LAST-MODIFIED:20230715T230908Z
UID:135-1689495300-1689498000@northed.co.uk
SUMMARY:Violin
DESCRIPTION:
URL:https://northed.co.uk/event/violin/
LOCATION:Fern
END:VEVENT
BEGIN:VEVENT
DTSTART;TZID=UTC:20230715T180000
DTEND;TZID=UTC:20230715T193000
DTSTAMP:20260422T190349
CREATED:20230713T174901Z
LAST-MODIFIED:20230713T174916Z
UID:181-1689444000-1689449400@northed.co.uk
SUMMARY:Sage Performance
DESCRIPTION:
URL:https://northed.co.uk/event/sage-performance/
END:VEVENT
BEGIN:VEVENT
DTSTART;TZID=UTC:20230715T143000
DTEND;TZID=UTC:20230715T180000
DTSTAMP:20260422T190349
CREATED:20230713T174850Z
LAST-MODIFIED:20230713T174850Z
UID:179-1689431400-1689444000@northed.co.uk
SUMMARY:Sage Rehearsal
DESCRIPTION:
URL:https://northed.co.uk/event/sage-rehearsal/
END:VEVENT
BEGIN:VEVENT
DTSTART;TZID=UTC:20230715T100000
DTEND;TZID=UTC:20230715T123000
DTSTAMP:20260422T190349
CREATED:20230711T173806Z
LAST-MODIFIED:20230711T173958Z
UID:33-1689415200-1689424200@northed.co.uk
SUMMARY:Holiday Work (Maths\, Biology\, English\, etc)
DESCRIPTION:
URL:https://northed.co.uk/event/holiday-work-maths-biology-english-etc/
LOCATION:Eskdale Terrace\, NE2 4DN
END:VEVENT
BEGIN:VEVENT
DTSTART;TZID=UTC:20230714T093000
DTEND;TZID=UTC:20230714T103000
DTSTAMP:20260422T190349
CREATED:20230713T185451Z
LAST-MODIFIED:20230713T185451Z
UID:281-1689327000-1689330600@northed.co.uk
SUMMARY:Piano / Violin (Self led)
DESCRIPTION:
URL:https://northed.co.uk/event/piano-violin-self-led-8/
LOCATION:Leazes Crescent\, NE1 4LN
END:VEVENT
BEGIN:VEVENT
DTSTART;TZID=UTC:20230713T130000
DTEND;TZID=UTC:20230713T160000
DTSTAMP:20260422T190349
CREATED:20230713T180308Z
LAST-MODIFIED:20230713T180722Z
UID:186-1689253200-1689264000@northed.co.uk
SUMMARY:Personal Revision Work
DESCRIPTION:
URL:https://northed.co.uk/event/personal-revision-work-2/
LOCATION:Leazes Crescent\, NE1 4LN
END:VEVENT
BEGIN:VEVENT
DTSTART;TZID=UTC:20230713T100000
DTEND;TZID=UTC:20230713T120000
DTSTAMP:20260422T190349
CREATED:20230711T180845Z
LAST-MODIFIED:20230711T183017Z
UID:89-1689242400-1689249600@northed.co.uk
SUMMARY:Holiday Work (Chemistry\, Physics)
DESCRIPTION:
URL:https://northed.co.uk/event/holiday-work-chemistry-physics/
LOCATION:Leazes Crescent\, NE1 4LN
END:VEVENT
BEGIN:VEVENT
DTSTART;TZID=UTC:20230712T130000
DTEND;TZID=UTC:20230712T160000
DTSTAMP:20260422T190349
CREATED:20230713T180308Z
LAST-MODIFIED:20230713T180722Z
UID:185-1689166800-1689177600@northed.co.uk
SUMMARY:Personal Revision Work
DESCRIPTION:
URL:https://northed.co.uk/event/personal-revision-work/
LOCATION:Leazes Crescent\, NE1 4LN
END:VEVENT
BEGIN:VEVENT
DTSTART;TZID=UTC:20230712T093000
DTEND;TZID=UTC:20230712T120000
DTSTAMP:20260422T190349
CREATED:20230711T174040Z
LAST-MODIFIED:20230711T174040Z
UID:38-1689154200-1689163200@northed.co.uk
SUMMARY:Holiday Work (Maths\, Biology\, English\, etc)
DESCRIPTION:
URL:https://northed.co.uk/event/holiday-work-maths-biology-english-etc-2/
LOCATION:Leazes Crescent\, NE1 4LN
END:VEVENT
BEGIN:VEVENT
DTSTART;TZID=UTC:20260422T190349
DTEND;TZID=UTC:20260422T190349
DTSTAMP:20260422T190349
CREATED:20230711T175840Z
LAST-MODIFIED:20230711T182837Z
UID:55-0-0@northed.co.uk
SUMMARY:Holiday Work (Maths\, Biology\, English\, etc)
DESCRIPTION:
URL:https://northed.co.uk/event/holiday-work-maths-biology-english-etc-9/
LOCATION:Leazes Crescent\, NE1 4LN
END:VEVENT
BEGIN:VEVENT
DTSTART;TZID=UTC:20260422T190349
DTEND;TZID=UTC:20260422T190349
DTSTAMP:20260422T190349
CREATED:20230711T175839Z
LAST-MODIFIED:20230711T182834Z
UID:49-0-0@northed.co.uk
SUMMARY:EVENT NAME
DESCRIPTION:
URL:https://northed.co.uk/event/event-name/
END:VEVENT
END:VCALENDAR