BEGIN:VCALENDAR
VERSION:2.0
PRODID:-//Anna&#039;s Revision - ECPv6.15.20//NONSGML v1.0//EN
CALSCALE:GREGORIAN
METHOD:PUBLISH
X-ORIGINAL-URL:https://northed.co.uk
X-WR-CALDESC:Events for Anna&#039;s Revision
REFRESH-INTERVAL;VALUE=DURATION:PT1H
X-Robots-Tag:noindex
X-PUBLISHED-TTL:PT1H
BEGIN:VTIMEZONE
TZID:UTC
BEGIN:STANDARD
TZOFFSETFROM:+0000
TZOFFSETTO:+0000
TZNAME:UTC
DTSTART:20220101T000000
END:STANDARD
END:VTIMEZONE
BEGIN:VEVENT
DTSTART;TZID=UTC:20230829T130000
DTEND;TZID=UTC:20230829T160000
DTSTAMP:20260422T023142
CREATED:20230713T180604Z
LAST-MODIFIED:20230713T180922Z
UID:213-1693314000-1693324800@northed.co.uk
SUMMARY:Personal Revision Work
DESCRIPTION:
URL:https://northed.co.uk/event/personal-revision-work-29/
LOCATION:Leazes Crescent\, NE1 4LN
END:VEVENT
BEGIN:VEVENT
DTSTART;TZID=UTC:20230829T100000
DTEND;TZID=UTC:20230829T120000
DTSTAMP:20260422T023142
CREATED:20230711T181040Z
LAST-MODIFIED:20230711T183102Z
UID:105-1693303200-1693310400@northed.co.uk
SUMMARY:Holiday Work (Chemistry\, Physics)
DESCRIPTION:
URL:https://northed.co.uk/event/holiday-work-chemistry-physics-17/
LOCATION:Leazes Crescent\, NE1 4LN
END:VEVENT
BEGIN:VEVENT
DTSTART;TZID=UTC:20230828T130000
DTEND;TZID=UTC:20230828T160000
DTSTAMP:20260422T023142
CREATED:20230713T180604Z
LAST-MODIFIED:20230713T180922Z
UID:212-1693227600-1693238400@northed.co.uk
SUMMARY:Personal Revision Work
DESCRIPTION:
URL:https://northed.co.uk/event/personal-revision-work-28/
LOCATION:Leazes Crescent\, NE1 4LN
END:VEVENT
BEGIN:VEVENT
DTSTART;TZID=UTC:20230828T130000
DTEND;TZID=UTC:20230828T150000
DTSTAMP:20260422T023142
CREATED:20230711T181040Z
LAST-MODIFIED:20230718T163546Z
UID:104-1693227600-1693234800@northed.co.uk
SUMMARY:Holiday Work (Chemistry\, Physics)
DESCRIPTION:
URL:https://northed.co.uk/event/holiday-work-chemistry-physics-16/
LOCATION:Leazes Crescent\, NE1 4LN
END:VEVENT
BEGIN:VEVENT
DTSTART;TZID=UTC:20230827T160000
DTEND;TZID=UTC:20230827T180000
DTSTAMP:20260422T023142
CREATED:20230713T185353Z
LAST-MODIFIED:20230713T185517Z
UID:277-1693152000-1693159200@northed.co.uk
SUMMARY:Personal Revision Work
DESCRIPTION:
URL:https://northed.co.uk/event/personal-revision-work-45/
LOCATION:Leazes Crescent\, NE1 4LN
END:VEVENT
BEGIN:VEVENT
DTSTART;TZID=UTC:20230827T113000
DTEND;TZID=UTC:20230827T140000
DTSTAMP:20260422T023142
CREATED:20230711T175857Z
LAST-MODIFIED:20230713T181632Z
UID:66-1693135800-1693144800@northed.co.uk
SUMMARY:Holiday Work (Maths\, Biology\, English\, etc)
DESCRIPTION:
URL:https://northed.co.uk/event/holiday-work-maths-biology-english-etc-19/
LOCATION:Eskdale Terrace\, NE2 4DN
END:VEVENT
BEGIN:VEVENT
DTSTART;TZID=UTC:20230826T130000
DTEND;TZID=UTC:20230826T150000
DTSTAMP:20260422T023142
CREATED:20230713T185257Z
LAST-MODIFIED:20230713T185508Z
UID:270-1693054800-1693062000@northed.co.uk
SUMMARY:Personal Revision Work
DESCRIPTION:
URL:https://northed.co.uk/event/personal-revision-work-38/
LOCATION:Leazes Crescent\, NE1 4LN
END:VEVENT
BEGIN:VEVENT
DTSTART;TZID=UTC:20230826T100000
DTEND;TZID=UTC:20230826T123000
DTSTAMP:20260422T023142
CREATED:20230711T175857Z
LAST-MODIFIED:20230713T185933Z
UID:65-1693044000-1693053000@northed.co.uk
SUMMARY:Holiday Work (Maths\, Biology\, English\, etc)
DESCRIPTION:
URL:https://northed.co.uk/event/holiday-work-maths-biology-english-etc-18/
LOCATION:Eskdale Terrace\, NE2 4DN
END:VEVENT
BEGIN:VEVENT
DTSTART;TZID=UTC:20230826T083000
DTEND;TZID=UTC:20230826T093000
DTSTAMP:20260422T023142
CREATED:20230711T183503Z
LAST-MODIFIED:20230711T183503Z
UID:162-1693038600-1693042200@northed.co.uk
SUMMARY:Geography
DESCRIPTION:
URL:https://northed.co.uk/event/geography-5/
LOCATION:Leazes Crescent\, NE1 4LN
END:VEVENT
BEGIN:VEVENT
DTSTART;TZID=UTC:20230825T093000
DTEND;TZID=UTC:20230825T103000
DTSTAMP:20260422T023142
CREATED:20230713T185452Z
LAST-MODIFIED:20230713T185452Z
UID:286-1692955800-1692959400@northed.co.uk
SUMMARY:Piano / Violin (Self led)
DESCRIPTION:
URL:https://northed.co.uk/event/piano-violin-self-led-13/
LOCATION:Leazes Crescent\, NE1 4LN
END:VEVENT
BEGIN:VEVENT
DTSTART;TZID=UTC:20230824T130000
DTEND;TZID=UTC:20230824T160000
DTSTAMP:20260422T023142
CREATED:20230713T180603Z
LAST-MODIFIED:20230713T180922Z
UID:211-1692882000-1692892800@northed.co.uk
SUMMARY:Personal Revision Work
DESCRIPTION:
URL:https://northed.co.uk/event/personal-revision-work-27/
LOCATION:Leazes Crescent\, NE1 4LN
END:VEVENT
BEGIN:VEVENT
DTSTART;TZID=UTC:20230824T100000
DTEND;TZID=UTC:20230824T120000
DTSTAMP:20260422T023142
CREATED:20230711T181040Z
LAST-MODIFIED:20230711T183102Z
UID:103-1692871200-1692878400@northed.co.uk
SUMMARY:Holiday Work (Chemistry\, Physics)
DESCRIPTION:
URL:https://northed.co.uk/event/holiday-work-chemistry-physics-15/
LOCATION:Leazes Crescent\, NE1 4LN
END:VEVENT
BEGIN:VEVENT
DTSTART;TZID=UTC:20230823T130000
DTEND;TZID=UTC:20230823T160000
DTSTAMP:20260422T023142
CREATED:20230713T180603Z
LAST-MODIFIED:20230713T180922Z
UID:210-1692795600-1692806400@northed.co.uk
SUMMARY:Personal Revision Work
DESCRIPTION:
URL:https://northed.co.uk/event/personal-revision-work-26/
LOCATION:Leazes Crescent\, NE1 4LN
END:VEVENT
BEGIN:VEVENT
DTSTART;TZID=UTC:20230823T093000
DTEND;TZID=UTC:20230823T120000
DTSTAMP:20260422T023142
CREATED:20230711T175857Z
LAST-MODIFIED:20230711T183002Z
UID:64-1692783000-1692792000@northed.co.uk
SUMMARY:Holiday Work (Maths\, Biology\, English\, etc)
DESCRIPTION:
URL:https://northed.co.uk/event/holiday-work-maths-biology-english-etc-17/
LOCATION:Leazes Crescent\, NE1 4LN
END:VEVENT
BEGIN:VEVENT
DTSTART;TZID=UTC:20230822T130000
DTEND;TZID=UTC:20230822T160000
DTSTAMP:20260422T023142
CREATED:20230713T180521Z
LAST-MODIFIED:20230713T180918Z
UID:209-1692709200-1692720000@northed.co.uk
SUMMARY:Personal Revision Work
DESCRIPTION:
URL:https://northed.co.uk/event/personal-revision-work-25/
LOCATION:Leazes Crescent\, NE1 4LN
END:VEVENT
BEGIN:VEVENT
DTSTART;TZID=UTC:20230822T100000
DTEND;TZID=UTC:20230822T120000
DTSTAMP:20260422T023142
CREATED:20230711T181040Z
LAST-MODIFIED:20230711T183102Z
UID:102-1692698400-1692705600@northed.co.uk
SUMMARY:Holiday Work (Chemistry\, Physics)
DESCRIPTION:
URL:https://northed.co.uk/event/holiday-work-chemistry-physics-14/
LOCATION:Leazes Crescent\, NE1 4LN
END:VEVENT
BEGIN:VEVENT
DTSTART;TZID=UTC:20230821T130000
DTEND;TZID=UTC:20230821T160000
DTSTAMP:20260422T023142
CREATED:20230713T180521Z
LAST-MODIFIED:20230713T180918Z
UID:208-1692622800-1692633600@northed.co.uk
SUMMARY:Personal Revision Work
DESCRIPTION:
URL:https://northed.co.uk/event/personal-revision-work-24/
LOCATION:Leazes Crescent\, NE1 4LN
END:VEVENT
BEGIN:VEVENT
DTSTART;TZID=UTC:20230821T130000
DTEND;TZID=UTC:20230821T150000
DTSTAMP:20260422T023142
CREATED:20230711T181025Z
LAST-MODIFIED:20230718T163527Z
UID:101-1692622800-1692630000@northed.co.uk
SUMMARY:Holiday Work (Chemistry\, Physics)
DESCRIPTION:
URL:https://northed.co.uk/event/holiday-work-chemistry-physics-13/
LOCATION:Leazes Crescent\, NE1 4LN
END:VEVENT
BEGIN:VEVENT
DTSTART;TZID=UTC:20230820T160000
DTEND;TZID=UTC:20230820T180000
DTSTAMP:20260422T023142
CREATED:20230713T185353Z
LAST-MODIFIED:20230713T185517Z
UID:276-1692547200-1692554400@northed.co.uk
SUMMARY:Personal Revision Work
DESCRIPTION:
URL:https://northed.co.uk/event/personal-revision-work-44/
LOCATION:Leazes Crescent\, NE1 4LN
END:VEVENT
BEGIN:VEVENT
DTSTART;TZID=UTC:20230820T113000
DTEND;TZID=UTC:20230820T140000
DTSTAMP:20260422T023142
CREATED:20230711T175842Z
LAST-MODIFIED:20230713T181549Z
UID:63-1692531000-1692540000@northed.co.uk
SUMMARY:Holiday Work (Maths\, Biology\, English\, etc)
DESCRIPTION:
URL:https://northed.co.uk/event/holiday-work-maths-biology-english-etc-16/
LOCATION:Eskdale Terrace\, NE2 4DN
END:VEVENT
BEGIN:VEVENT
DTSTART;TZID=UTC:20230819T130000
DTEND;TZID=UTC:20230819T150000
DTSTAMP:20260422T023142
CREATED:20230713T185257Z
LAST-MODIFIED:20230713T185508Z
UID:269-1692450000-1692457200@northed.co.uk
SUMMARY:Personal Revision Work
DESCRIPTION:
URL:https://northed.co.uk/event/personal-revision-work-37/
LOCATION:Leazes Crescent\, NE1 4LN
END:VEVENT
BEGIN:VEVENT
DTSTART;TZID=UTC:20230819T100000
DTEND;TZID=UTC:20230819T123000
DTSTAMP:20260422T023142
CREATED:20230711T175842Z
LAST-MODIFIED:20230713T185918Z
UID:62-1692439200-1692448200@northed.co.uk
SUMMARY:Holiday Work (Maths\, Biology\, English\, etc)
DESCRIPTION:
URL:https://northed.co.uk/event/holiday-work-maths-biology-english-etc-15/
LOCATION:Eskdale Terrace\, NE2 4DN
END:VEVENT
BEGIN:VEVENT
DTSTART;TZID=UTC:20230819T083000
DTEND;TZID=UTC:20230819T093000
DTSTAMP:20260422T023142
CREATED:20230711T183503Z
LAST-MODIFIED:20230711T183503Z
UID:161-1692433800-1692437400@northed.co.uk
SUMMARY:Geography
DESCRIPTION:
URL:https://northed.co.uk/event/geography-4/
LOCATION:Leazes Crescent\, NE1 4LN
END:VEVENT
BEGIN:VEVENT
DTSTART;TZID=UTC:20230818T093000
DTEND;TZID=UTC:20230818T103000
DTSTAMP:20260422T023142
CREATED:20230713T185451Z
LAST-MODIFIED:20230713T185451Z
UID:285-1692351000-1692354600@northed.co.uk
SUMMARY:Piano / Violin (Self led)
DESCRIPTION:
URL:https://northed.co.uk/event/piano-violin-self-led-12/
LOCATION:Leazes Crescent\, NE1 4LN
END:VEVENT
BEGIN:VEVENT
DTSTART;TZID=UTC:20230817T130000
DTEND;TZID=UTC:20230817T160000
DTSTAMP:20260422T023142
CREATED:20230713T180521Z
LAST-MODIFIED:20230713T180918Z
UID:207-1692277200-1692288000@northed.co.uk
SUMMARY:Personal Revision Work
DESCRIPTION:
URL:https://northed.co.uk/event/personal-revision-work-23/
LOCATION:Leazes Crescent\, NE1 4LN
END:VEVENT
BEGIN:VEVENT
DTSTART;TZID=UTC:20230817T100000
DTEND;TZID=UTC:20230817T120000
DTSTAMP:20260422T023142
CREATED:20230718T163756Z
LAST-MODIFIED:20230718T163756Z
UID:321-1692266400-1692273600@northed.co.uk
SUMMARY:Holiday Work (Chemistry\, Physics)
DESCRIPTION:
URL:https://northed.co.uk/event/holiday-work-chemistry-physics-21/
END:VEVENT
BEGIN:VEVENT
DTSTART;TZID=UTC:20230817T081500
DTEND;TZID=UTC:20230817T090000
DTSTAMP:20260422T023142
CREATED:20230711T183458Z
LAST-MODIFIED:20230711T183458Z
UID:157-1692260100-1692262800@northed.co.uk
SUMMARY:Violin
DESCRIPTION:
URL:https://northed.co.uk/event/violin-23/
LOCATION:Leazes Crescent\, NE1 4LN
END:VEVENT
BEGIN:VEVENT
DTSTART;TZID=UTC:20230816T130000
DTEND;TZID=UTC:20230816T160000
DTSTAMP:20260422T023142
CREATED:20230713T180521Z
LAST-MODIFIED:20230713T180918Z
UID:206-1692190800-1692201600@northed.co.uk
SUMMARY:Personal Revision Work
DESCRIPTION:
URL:https://northed.co.uk/event/personal-revision-work-22/
LOCATION:Leazes Crescent\, NE1 4LN
END:VEVENT
BEGIN:VEVENT
DTSTART;TZID=UTC:20230816T081500
DTEND;TZID=UTC:20230816T090000
DTSTAMP:20260422T023142
CREATED:20230711T183458Z
LAST-MODIFIED:20230711T183458Z
UID:156-1692173700-1692176400@northed.co.uk
SUMMARY:Violin
DESCRIPTION:
URL:https://northed.co.uk/event/violin-22/
LOCATION:Leazes Crescent\, NE1 4LN
END:VEVENT
BEGIN:VEVENT
DTSTART;TZID=UTC:20230815T130000
DTEND;TZID=UTC:20230815T160000
DTSTAMP:20260422T023142
CREATED:20230713T180521Z
LAST-MODIFIED:20230713T180917Z
UID:205-1692104400-1692115200@northed.co.uk
SUMMARY:Personal Revision Work
DESCRIPTION:
URL:https://northed.co.uk/event/personal-revision-work-21/
LOCATION:Leazes Crescent\, NE1 4LN
END:VEVENT
END:VCALENDAR