BEGIN:VCALENDAR
VERSION:2.0
PRODID:-//Anna&#039;s Revision - ECPv6.15.20//NONSGML v1.0//EN
CALSCALE:GREGORIAN
METHOD:PUBLISH
X-WR-CALNAME:Anna&#039;s Revision
X-ORIGINAL-URL:https://northed.co.uk
X-WR-CALDESC:Events for Anna&#039;s Revision
REFRESH-INTERVAL;VALUE=DURATION:PT1H
X-Robots-Tag:noindex
X-PUBLISHED-TTL:PT1H
BEGIN:VTIMEZONE
TZID:UTC
BEGIN:STANDARD
TZOFFSETFROM:+0000
TZOFFSETTO:+0000
TZNAME:UTC
DTSTART:20220101T000000
END:STANDARD
END:VTIMEZONE
BEGIN:VEVENT
DTSTART;TZID=UTC:20230804T081500
DTEND;TZID=UTC:20230804T090000
DTSTAMP:20260422T095035
CREATED:20230711T183148Z
LAST-MODIFIED:20230711T183148Z
UID:148-1691136900-1691139600@northed.co.uk
SUMMARY:Violin
DESCRIPTION:
URL:https://northed.co.uk/event/violin-14/
LOCATION:Leazes Crescent\, NE1 4LN
END:VEVENT
BEGIN:VEVENT
DTSTART;TZID=UTC:20230803T180000
DTEND;TZID=UTC:20230803T220000
DTSTAMP:20260422T095035
CREATED:20230730T180508Z
LAST-MODIFIED:20230730T180704Z
UID:324-1691085600-1691100000@northed.co.uk
SUMMARY:Watching MacBeth
DESCRIPTION:
URL:https://northed.co.uk/event/watching-macbeth/
LOCATION:Leazes Crescent\, NE1 4LN
END:VEVENT
BEGIN:VEVENT
DTSTART;TZID=UTC:20230803T130000
DTEND;TZID=UTC:20230803T160000
DTSTAMP:20260422T095035
CREATED:20230713T180421Z
LAST-MODIFIED:20230713T180738Z
UID:198-1691067600-1691078400@northed.co.uk
SUMMARY:Personal Revision Work
DESCRIPTION:
URL:https://northed.co.uk/event/personal-revision-work-14/
LOCATION:Leazes Crescent\, NE1 4LN
END:VEVENT
BEGIN:VEVENT
DTSTART;TZID=UTC:20230803T100000
DTEND;TZID=UTC:20230803T120000
DTSTAMP:20260422T095035
CREATED:20230711T180902Z
LAST-MODIFIED:20230711T183032Z
UID:96-1691056800-1691064000@northed.co.uk
SUMMARY:Holiday Work (Chemistry\, Physics)
DESCRIPTION:
URL:https://northed.co.uk/event/holiday-work-chemistry-physics-8/
LOCATION:Leazes Crescent\, NE1 4LN
END:VEVENT
BEGIN:VEVENT
DTSTART;TZID=UTC:20230803T081500
DTEND;TZID=UTC:20230803T090000
DTSTAMP:20260422T095035
CREATED:20230711T183148Z
LAST-MODIFIED:20230711T183148Z
UID:147-1691050500-1691053200@northed.co.uk
SUMMARY:Violin
DESCRIPTION:
URL:https://northed.co.uk/event/violin-13/
LOCATION:Leazes Crescent\, NE1 4LN
END:VEVENT
BEGIN:VEVENT
DTSTART;TZID=UTC:20230802T130000
DTEND;TZID=UTC:20230802T160000
DTSTAMP:20260422T095035
CREATED:20230713T180420Z
LAST-MODIFIED:20230713T180738Z
UID:197-1690981200-1690992000@northed.co.uk
SUMMARY:Personal Revision Work
DESCRIPTION:
URL:https://northed.co.uk/event/personal-revision-work-13/
LOCATION:Leazes Crescent\, NE1 4LN
END:VEVENT
BEGIN:VEVENT
DTSTART;TZID=UTC:20230802T093000
DTEND;TZID=UTC:20230802T120000
DTSTAMP:20260422T095035
CREATED:20230711T175840Z
LAST-MODIFIED:20230711T182835Z
UID:54-1690968600-1690977600@northed.co.uk
SUMMARY:Holiday Work (Maths\, Biology\, English\, etc)
DESCRIPTION:
URL:https://northed.co.uk/event/holiday-work-maths-biology-english-etc-8/
LOCATION:Leazes Crescent\, NE1 4LN
END:VEVENT
BEGIN:VEVENT
DTSTART;TZID=UTC:20230802T081500
DTEND;TZID=UTC:20230802T090000
DTSTAMP:20260422T095035
CREATED:20230711T183148Z
LAST-MODIFIED:20230711T183148Z
UID:146-1690964100-1690966800@northed.co.uk
SUMMARY:Violin
DESCRIPTION:
URL:https://northed.co.uk/event/violin-12/
LOCATION:Leazes Crescent\, NE1 4LN
END:VEVENT
BEGIN:VEVENT
DTSTART;TZID=UTC:20230801T130000
DTEND;TZID=UTC:20230801T160000
DTSTAMP:20260422T095035
CREATED:20230713T180420Z
LAST-MODIFIED:20230713T180738Z
UID:196-1690894800-1690905600@northed.co.uk
SUMMARY:Personal Revision Work
DESCRIPTION:
URL:https://northed.co.uk/event/personal-revision-work-12/
LOCATION:Leazes Crescent\, NE1 4LN
END:VEVENT
BEGIN:VEVENT
DTSTART;TZID=UTC:20230801T100000
DTEND;TZID=UTC:20230801T120000
DTSTAMP:20260422T095035
CREATED:20230711T180901Z
LAST-MODIFIED:20230711T183032Z
UID:95-1690884000-1690891200@northed.co.uk
SUMMARY:Holiday Work (Chemistry\, Physics)
DESCRIPTION:
URL:https://northed.co.uk/event/holiday-work-chemistry-physics-7/
LOCATION:Leazes Crescent\, NE1 4LN
END:VEVENT
BEGIN:VEVENT
DTSTART;TZID=UTC:20230801T081500
DTEND;TZID=UTC:20230801T090000
DTSTAMP:20260422T095035
CREATED:20230711T183148Z
LAST-MODIFIED:20230711T183148Z
UID:145-1690877700-1690880400@northed.co.uk
SUMMARY:Violin
DESCRIPTION:
URL:https://northed.co.uk/event/violin-11/
LOCATION:Leazes Crescent\, NE1 4LN
END:VEVENT
BEGIN:VEVENT
DTSTART;TZID=UTC:20230731T130000
DTEND;TZID=UTC:20230731T160000
DTSTAMP:20260422T095035
CREATED:20230713T180420Z
LAST-MODIFIED:20230713T180738Z
UID:195-1690808400-1690819200@northed.co.uk
SUMMARY:Personal Revision Work
DESCRIPTION:
URL:https://northed.co.uk/event/personal-revision-work-11/
LOCATION:Leazes Crescent\, NE1 4LN
END:VEVENT
BEGIN:VEVENT
DTSTART;TZID=UTC:20230731T104500
DTEND;TZID=UTC:20230731T121500
DTSTAMP:20260422T095035
CREATED:20230730T182336Z
LAST-MODIFIED:20230730T182454Z
UID:326-1690800300-1690805700@northed.co.uk
SUMMARY:Holiday Work (Chemistry\, Physics)
DESCRIPTION:
URL:https://northed.co.uk/event/holiday-work-chemistry-physics-22/
LOCATION:Leazes Crescent\, NE1 4LN
END:VEVENT
BEGIN:VEVENT
DTSTART;TZID=UTC:20230731T081500
DTEND;TZID=UTC:20230731T090000
DTSTAMP:20260422T095035
CREATED:20230711T183148Z
LAST-MODIFIED:20230711T183148Z
UID:144-1690791300-1690794000@northed.co.uk
SUMMARY:Violin
DESCRIPTION:
URL:https://northed.co.uk/event/violin-10/
LOCATION:Leazes Crescent\, NE1 4LN
END:VEVENT
BEGIN:VEVENT
DTSTART;VALUE=DATE:20230728
DTEND;VALUE=DATE:20230731
DTSTAMP:20260422T095035
CREATED:20230713T174710Z
LAST-MODIFIED:20230713T174710Z
UID:177-1690502400-1690761599@northed.co.uk
SUMMARY:London Holiday
DESCRIPTION:
URL:https://northed.co.uk/event/london-holiday/
END:VEVENT
BEGIN:VEVENT
DTSTART;TZID=UTC:20230727T130000
DTEND;TZID=UTC:20230727T160000
DTSTAMP:20260422T095035
CREATED:20230713T180312Z
LAST-MODIFIED:20230713T180723Z
UID:194-1690462800-1690473600@northed.co.uk
SUMMARY:Personal Revision Work
DESCRIPTION:
URL:https://northed.co.uk/event/personal-revision-work-10/
LOCATION:Leazes Crescent\, NE1 4LN
END:VEVENT
BEGIN:VEVENT
DTSTART;TZID=UTC:20230727T100000
DTEND;TZID=UTC:20230727T120000
DTSTAMP:20260422T095035
CREATED:20230711T180901Z
LAST-MODIFIED:20230711T183032Z
UID:94-1690452000-1690459200@northed.co.uk
SUMMARY:Holiday Work (Chemistry\, Physics)
DESCRIPTION:
URL:https://northed.co.uk/event/holiday-work-chemistry-physics-6/
LOCATION:Leazes Crescent\, NE1 4LN
END:VEVENT
BEGIN:VEVENT
DTSTART;TZID=UTC:20230727T081500
DTEND;TZID=UTC:20230727T090000
DTSTAMP:20260422T095035
CREATED:20230711T183133Z
LAST-MODIFIED:20230711T183133Z
UID:143-1690445700-1690448400@northed.co.uk
SUMMARY:Violin
DESCRIPTION:
URL:https://northed.co.uk/event/violin-9/
LOCATION:Leazes Crescent\, NE1 4LN
END:VEVENT
BEGIN:VEVENT
DTSTART;TZID=UTC:20230726T130000
DTEND;TZID=UTC:20230726T160000
DTSTAMP:20260422T095035
CREATED:20230713T180312Z
LAST-MODIFIED:20230713T180723Z
UID:193-1690376400-1690387200@northed.co.uk
SUMMARY:Personal Revision Work
DESCRIPTION:
URL:https://northed.co.uk/event/personal-revision-work-9/
LOCATION:Leazes Crescent\, NE1 4LN
END:VEVENT
BEGIN:VEVENT
DTSTART;TZID=UTC:20230726T093000
DTEND;TZID=UTC:20230726T120000
DTSTAMP:20260422T095035
CREATED:20230711T175839Z
LAST-MODIFIED:20230711T182834Z
UID:53-1690363800-1690372800@northed.co.uk
SUMMARY:Holiday Work (Maths\, Biology\, English\, etc)
DESCRIPTION:
URL:https://northed.co.uk/event/holiday-work-maths-biology-english-etc-7/
LOCATION:Leazes Crescent\, NE1 4LN
END:VEVENT
BEGIN:VEVENT
DTSTART;TZID=UTC:20230726T081500
DTEND;TZID=UTC:20230726T090000
DTSTAMP:20260422T095035
CREATED:20230711T183133Z
LAST-MODIFIED:20230711T183133Z
UID:142-1690359300-1690362000@northed.co.uk
SUMMARY:Violin
DESCRIPTION:
URL:https://northed.co.uk/event/violin-8/
LOCATION:Leazes Crescent\, NE1 4LN
END:VEVENT
BEGIN:VEVENT
DTSTART;TZID=UTC:20230725T140000
DTEND;TZID=UTC:20230725T170000
DTSTAMP:20260422T095035
CREATED:20230713T180312Z
LAST-MODIFIED:20230713T181323Z
UID:192-1690293600-1690304400@northed.co.uk
SUMMARY:Personal Revision Work
DESCRIPTION:
URL:https://northed.co.uk/event/personal-revision-work-8/
LOCATION:Leazes Crescent\, NE1 4LN
END:VEVENT
BEGIN:VEVENT
DTSTART;TZID=UTC:20230725T113000
DTEND;TZID=UTC:20230725T133000
DTSTAMP:20260422T095035
CREATED:20230713T181252Z
LAST-MODIFIED:20230718T163458Z
UID:251-1690284600-1690291800@northed.co.uk
SUMMARY:Holiday Work (Chemistry\, Physics)
DESCRIPTION:
URL:https://northed.co.uk/event/holiday-work-chemistry-physics-19/
LOCATION:Leazes Crescent\, NE1 4LN
END:VEVENT
BEGIN:VEVENT
DTSTART;TZID=UTC:20230725T081500
DTEND;TZID=UTC:20230725T090000
DTSTAMP:20260422T095035
CREATED:20230711T183133Z
LAST-MODIFIED:20230711T183133Z
UID:141-1690272900-1690275600@northed.co.uk
SUMMARY:Violin
DESCRIPTION:
URL:https://northed.co.uk/event/violin-7/
LOCATION:Leazes Crescent\, NE1 4LN
END:VEVENT
BEGIN:VEVENT
DTSTART;TZID=UTC:20230724T130000
DTEND;TZID=UTC:20230724T160000
DTSTAMP:20260422T095035
CREATED:20230713T180311Z
LAST-MODIFIED:20230713T180723Z
UID:191-1690203600-1690214400@northed.co.uk
SUMMARY:Personal Revision Work
DESCRIPTION:
URL:https://northed.co.uk/event/personal-revision-work-7/
LOCATION:Leazes Crescent\, NE1 4LN
END:VEVENT
BEGIN:VEVENT
DTSTART;TZID=UTC:20230724T100000
DTEND;TZID=UTC:20230724T120000
DTSTAMP:20260422T095035
CREATED:20230711T180901Z
LAST-MODIFIED:20230711T183032Z
UID:93-1690192800-1690200000@northed.co.uk
SUMMARY:Holiday Work (Chemistry\, Physics)
DESCRIPTION:
URL:https://northed.co.uk/event/holiday-work-chemistry-physics-5/
LOCATION:Leazes Crescent\, NE1 4LN
END:VEVENT
BEGIN:VEVENT
DTSTART;TZID=UTC:20230724T081500
DTEND;TZID=UTC:20230724T090000
DTSTAMP:20260422T095035
CREATED:20230711T183132Z
LAST-MODIFIED:20230711T183132Z
UID:140-1690186500-1690189200@northed.co.uk
SUMMARY:Violin
DESCRIPTION:
URL:https://northed.co.uk/event/violin-6/
LOCATION:Leazes Crescent\, NE1 4LN
END:VEVENT
BEGIN:VEVENT
DTSTART;TZID=UTC:20230723T160000
DTEND;TZID=UTC:20230723T180000
DTSTAMP:20260422T095035
CREATED:20230713T185258Z
LAST-MODIFIED:20230713T185508Z
UID:273-1690128000-1690135200@northed.co.uk
SUMMARY:Personal Revision Work
DESCRIPTION:
URL:https://northed.co.uk/event/personal-revision-work-41/
LOCATION:Leazes Crescent\, NE1 4LN
END:VEVENT
BEGIN:VEVENT
DTSTART;TZID=UTC:20230723T143000
DTEND;TZID=UTC:20230723T153000
DTSTAMP:20260422T095035
CREATED:20230715T230958Z
LAST-MODIFIED:20230715T230958Z
UID:315-1690122600-1690126200@northed.co.uk
SUMMARY:Horse
DESCRIPTION:
URL:https://northed.co.uk/event/horse-3/
END:VEVENT
BEGIN:VEVENT
DTSTART;TZID=UTC:20230723T113000
DTEND;TZID=UTC:20230723T140000
DTSTAMP:20260422T095035
CREATED:20230711T175839Z
LAST-MODIFIED:20230713T181116Z
UID:52-1690111800-1690120800@northed.co.uk
SUMMARY:Holiday Work (Maths\, Biology\, English\, etc)
DESCRIPTION:
URL:https://northed.co.uk/event/holiday-work-maths-biology-english-etc-6/
LOCATION:Eskdale Terrace\, NE2 4DN
END:VEVENT
END:VCALENDAR